BEGIN:VCALENDAR
VERSION:2.0
PRODID:-//Contratero//ES
CALSCALE:GREGORIAN
METHOD:PUBLISH
BEGIN:VEVENT
UID:DCA ACUERDO MARCO TRADUCCIONES@contratero.es
DTSTAMP:20260420T192133Z
DTSTART:20220930T235959
DTEND:20221001T005959
SUMMARY:Cierre: Acuerdo marco traducciones
DESCRIPTION:Acuerdo marco traducciones\\n\\nOrganismo: Comité Central de Compras de Navantia S.A.\, S.M.E.\\n\\nVer en Contratero: https://contratero.es/contracts/DCA ACUERDO MARCO TRADUCCIONES
URL:https://contratero.es/contracts/DCA ACUERDO MARCO TRADUCCIONES
STATUS:CONFIRMED
BEGIN:VALARM
TRIGGER:-P1D
ACTION:DISPLAY
DESCRIPTION:Recordatorio: Acuerdo marco traducciones
END:VALARM
END:VEVENT
END:VCALENDAR